BEGIN:VCALENDAR
VERSION:2.0
PRODID:-//wp-events-plugin.com//7.2.3.1//EN
TZID:Asia/Kolkata
X-WR-TIMEZONE:Asia/Kolkata
BEGIN:VEVENT
UID:48@cds.iisc.ac.in
DTSTART;TZID=Asia/Kolkata;VALUE=DATE:20240404
DTEND;TZID=Asia/Kolkata;VALUE=DATE:20240406
DTSTAMP:20240402T184435Z
URL:https://cds.iisc.ac.in/events/15th-eecs-research-students-symposium/
SUMMARY:15th EECS Research Students Symposium
DESCRIPTION:15th EECS Research Students Symposium will be held on April 4t
 h and 5th\, 2024. This annual event has served as an excellent forum for
  interaction among IISc's students\, faculty members\, and other top resea
 rchers from industry and academia. The symposium covers research topics ra
 nging from theoretical computer science to power engineering.\n\nFor more 
 information on the schedule and speakers\, please visit https://eecs.iisc.
 ac.in/EECS2024 or see the flyer below.\n\n[pdf-embedder url="https://cds.i
 isc.ac.in/wp-content/uploads/EECS_Symp_2024_Flyer.pdf"].\n\n&nbsp\;
CATEGORIES:Events
END:VEVENT
BEGIN:VTIMEZONE
TZID:Asia/Kolkata
X-LIC-LOCATION:Asia/Kolkata
BEGIN:STANDARD
DTSTART:20230405T000000
TZOFFSETFROM:+0530
TZOFFSETTO:+0530
TZNAME:IST
END:STANDARD
END:VTIMEZONE
END:VCALENDAR