BEGIN:VCALENDAR
VERSION:2.0
PRODID:-//wp-events-plugin.com//7.2.3.1//EN
TZID:Asia/Kolkata
X-WR-TIMEZONE:Asia/Kolkata
BEGIN:VEVENT
UID:104@cds.iisc.ac.in
DTSTART;TZID=Asia/Kolkata;VALUE=DATE:20250429
DTEND;TZID=Asia/Kolkata;VALUE=DATE:20250502
DTSTAMP:20250207T164534Z
URL:https://cds.iisc.ac.in/events/a-short-course-on-bridging-artificial-in
 telligence-and-healthcare/
SUMMARY:A Short Course on 'Bridging Artificial Intelligence and Healthcare'
DESCRIPTION:The course aims to introduce participants to key concepts and a
 pplications of Artificial Intelligence in healthcare. By the end of the co
 urse\, participants will gain the knowledge and skills to critically appra
 ise and design Al-driven health research\, as well as understand the nuanc
 es of developing machine learning models in healthcare. (Note: Limited slo
 ts\; comprehensive selection process).\n\n\n\n&nbsp\;
CATEGORIES:Events
END:VEVENT
BEGIN:VTIMEZONE
TZID:Asia/Kolkata
X-LIC-LOCATION:Asia/Kolkata
BEGIN:STANDARD
DTSTART:20240429T000000
TZOFFSETFROM:+0530
TZOFFSETTO:+0530
TZNAME:IST
END:STANDARD
END:VTIMEZONE
END:VCALENDAR