BEGIN:VCALENDAR
VERSION:2.0
PRODID:-//wp-events-plugin.com//7.2.3.1//EN
TZID:Asia/Kolkata
X-WR-TIMEZONE:Asia/Kolkata
BEGIN:VEVENT
UID:146@cds.iisc.ac.in
DTSTART;TZID=Asia/Kolkata:20250917T150000
DTEND;TZID=Asia/Kolkata:20250917T160000
DTSTAMP:20250915T054500Z
URL:https://cds.iisc.ac.in/events/cds-kiac-seminar-cds-10217th-september-s
 tate-of-open-video-generation-models/
SUMMARY:CDS-KIAC {Seminar}@ CDS: #102:17th September: "State of Open Video 
 Generation Models"
DESCRIPTION:We welcome you to CDS-KIAC talk on 17th September 2025 (Wednesd
 ay). The details are as below:\n\n\n\nSpeaker: Sayak Paul\, Hugging Face\n
 Title: State of Open Video Generation Models\nDate and Time: September 17\
 , 2025: 3:00 PM\nVenue: #102\, CDS Seminar Hall.\n\n\n\nAbstract: In this 
 session\, we will cover the state of open video generation models. For the
  past few years\, the GenAI community has seen an emergence in photorealis
 tic image generation models like Flux\, Nano Banana\, and so on. 2025 is g
 radually setting itself up for videos. With a fair amount of divide betwee
 n open and closed models for video generation\, it can be daunting to even
  think about the possibility of open high-quality video generation models.
  This session will try to give wings to those possibilities by showing wha
 t the open video generation community has been up to. We will discuss tren
 ds in the architectures\, tiny and neat training techniques. This talk wil
 l include both inference and fine-tuning.\n\nBio of Speaker: Sayak works 
 on diffusion models at Hugging Face. His day-to-day includes contributing 
 to the diffusers library\, training and babysitting diffusion models. He
 ’s interested in subject-driven generation\, preference alignment\, and 
 inference-time scaling of diffusion models. When he is not working\, he ca
 n be found playing the guitar and binge-watching ICML tutorials and Suits.
 \n\nHost Faculty: Dr. Anirban Chakraborty\n\n\n\nALL ARE WELCOME
CATEGORIES:Events,Talks
END:VEVENT
BEGIN:VTIMEZONE
TZID:Asia/Kolkata
X-LIC-LOCATION:Asia/Kolkata
BEGIN:STANDARD
DTSTART:20240917T150000
TZOFFSETFROM:+0530
TZOFFSETTO:+0530
TZNAME:IST
END:STANDARD
END:VTIMEZONE
END:VCALENDAR