BEGIN:VCALENDAR
VERSION:2.0
PRODID:-//wp-events-plugin.com//7.2.3.1//EN
TZID:Asia/Kolkata
X-WR-TIMEZONE:Asia/Kolkata
BEGIN:VEVENT
UID:43@cds.iisc.ac.in
DTSTART;TZID=Asia/Kolkata;VALUE=DATE:20240531
DTEND;TZID=Asia/Kolkata;VALUE=DATE:20240602
DTSTAMP:20240323T082557Z
URL:https://cds.iisc.ac.in/events/symposium-on-big-data-algorithms-for-bio
 logy-bdbio/
SUMMARY:Symposium on Big Data Algorithms for Biology (BDBio)
DESCRIPTION:Join us at the second annual Symposium on Big Data Algorithms f
 or Biology (BDBio) on May 31-June 1\, 2024 at the Faculty Hall\, Main Buil
 ding\, Indian Institute of Science.\n\nThe 2-day event will feature engagi
 ng invited talks\, contributed talks\, poster presentations\, and panel di
 scussions on various topics in computational biology. Registration / Abstr
 act submission are open until April 20. Check more details on www.bdbio.in
 \n\n
CATEGORIES:Events
END:VEVENT
BEGIN:VTIMEZONE
TZID:Asia/Kolkata
X-LIC-LOCATION:Asia/Kolkata
BEGIN:STANDARD
DTSTART:20230601T000000
TZOFFSETFROM:+0530
TZOFFSETTO:+0530
TZNAME:IST
END:STANDARD
END:VTIMEZONE
END:VCALENDAR