BEGIN:VCALENDAR
VERSION:2.0
PRODID:-//wp-events-plugin.com//7.2.3.1//EN
TZID:Asia/Kolkata
X-WR-TIMEZONE:Asia/Kolkata
BEGIN:VEVENT
UID:140@cds.iisc.ac.in
DTSTART;TZID=Asia/Kolkata;VALUE=DATE:20250911
DTEND;TZID=Asia/Kolkata;VALUE=DATE:20250913
DTSTAMP:20250811T143801Z
URL:https://cds.iisc.ac.in/events/workshop-on-artificial-intelligence-in-p
 recision-medicine-11-12-september-2025/
SUMMARY:Workshop On Artificial Intelligence in Precision Medicine: 11-12 Se
 ptember\, 2025
DESCRIPTION:We are pleased to announce a two-day long:\n\nWORKSHOP ON ARTIF
 ICIAL INTELLIGENCE IN PRECISION MEDICINE\n\nDate: 11-12 September\, 2025\n
 Location: SERC Auditorium\, Indian Institute of Science\n\nThe workshop ai
 ms to foster a deeper understanding of ongoing research in both Industry a
 nd Academia by bringing together leaders from both. We hope to provide a c
 omprehensive overview of recent advancements in precision medicine\, and a
 lso explore its wide-ranging applications.\n\nFor more information\, pleas
 e visit our website: website\n\nMandatory Poster Submission\n\nIn line wit
 h our commitment to fostering interactive discussions and knowledge exchan
 ge\, we require all attendees to submit posters presenting their research 
 contributions relevant to the workshop themes. Poster submissions are mand
 atory for participation in the workshop.\n\nYou can submit your poster and
  register yourself here: registration form\n\nNote: All the participants a
 re requested to kindly carry your own laptops for the hands-on session.\n\
 nWarm Regards\,\nOrganising Team\n\n
CATEGORIES:Events,Talks
END:VEVENT
BEGIN:VTIMEZONE
TZID:Asia/Kolkata
X-LIC-LOCATION:Asia/Kolkata
BEGIN:STANDARD
DTSTART:20240911T000000
TZOFFSETFROM:+0530
TZOFFSETTO:+0530
TZNAME:IST
END:STANDARD
END:VTIMEZONE
END:VCALENDAR